BEGIN:VCALENDAR
VERSION:2.0
PRODID:-//ChamberMaster//Event Calendar 2.0//EN
METHOD:PUBLISH
X-PUBLISHED-TTL:P3D
REFRESH-INTERVAL:P3D
CALSCALE:GREGORIAN
BEGIN:VEVENT
DTSTART:20300211T180000Z
DTEND:20300211T190000Z
X-MICROSOFT-CDO-ALLDAYEVENT:FALSE
SUMMARY:KC M365 User Group
DESCRIPTION:The KC M365 User Group is a meeting for professionals who work with Microsoft 365\, Power Platform\, and Dynamics 365 to network and learn from each other. Find out specific speaker information each month on our website.
X-ALT-DESC;FMTTYPE=text/html:The KC M365 User Group is a meeting for professionals who work with Microsoft 365\, Power Platform\, and Dynamics 365 to network and learn from each other. Find out specific speaker information each month <a href="https://kco365.wordpress.com/upcoming-events/">on our website</a>.
LOCATION:Our meetings are 100% virtual. Please register and the link will be provided via email.
UID:e.3021.13566
SEQUENCE:3
DTSTAMP:20260422T020003Z
URL:http://kcchamber.chambermaster.com/events/details/kc-m365-user-group-02-11-2030-13566
END:VEVENT

END:VCALENDAR
